BEGIN:VCALENDAR
VERSION:2.0
PRODID:-//Creekside Cabaret - ECPv6.15.18//NONSGML v1.0//EN
CALSCALE:GREGORIAN
METHOD:PUBLISH
X-WR-CALNAME:Creekside Cabaret
X-ORIGINAL-URL:https://creeksidecabaret.com
X-WR-CALDESC:Events for Creekside Cabaret
REFRESH-INTERVAL;VALUE=DURATION:PT1H
X-Robots-Tag:noindex
X-PUBLISHED-TTL:PT1H
BEGIN:VTIMEZONE
TZID:America/New_York
BEGIN:DAYLIGHT
TZOFFSETFROM:-0500
TZOFFSETTO:-0400
TZNAME:EDT
DTSTART:20250309T070000
END:DAYLIGHT
BEGIN:STANDARD
TZOFFSETFROM:-0400
TZOFFSETTO:-0500
TZNAME:EST
DTSTART:20251102T060000
END:STANDARD
BEGIN:DAYLIGHT
TZOFFSETFROM:-0500
TZOFFSETTO:-0400
TZNAME:EDT
DTSTART:20260308T070000
END:DAYLIGHT
BEGIN:STANDARD
TZOFFSETFROM:-0400
TZOFFSETTO:-0500
TZNAME:EST
DTSTART:20261101T060000
END:STANDARD
BEGIN:DAYLIGHT
TZOFFSETFROM:-0500
TZOFFSETTO:-0400
TZNAME:EDT
DTSTART:20270314T070000
END:DAYLIGHT
BEGIN:STANDARD
TZOFFSETFROM:-0400
TZOFFSETTO:-0500
TZNAME:EST
DTSTART:20271107T060000
END:STANDARD
END:VTIMEZONE
BEGIN:VEVENT
DTSTART;TZID=America/New_York:20260518T160000
DTEND;TZID=America/New_York:20260519T020000
DTSTAMP:20260420T191142
CREATED:20260420T192848Z
LAST-MODIFIED:20260420T192848Z
UID:10001239-1779120000-1779156000@creeksidecabaret.com
SUMMARY:Bartenders in Bikinis Week!
DESCRIPTION:Serving Cocktails and Bikinis! All Week Long at Creekside Cabaret MAY 18th through 23rd\, our bartenders are serving up Summer in their Bikinis. Join us for HAPPY HOUR every day 4:00PM EST to 7:00PM EST in addition to Monday Night Wings\, Taco Tuesday\, and the sexiest entertainers in Montgomery County.
URL:https://creeksidecabaret.com/event/bartenders-in-bikinis-week/2026-05-18/
ATTACH;FMTTYPE=image/jpeg:https://creeksidecabaret.com/wp-content/uploads/2026/04/Fri1-CC-Bikini-SQUARE-1.jpeg
END:VEVENT
BEGIN:VEVENT
DTSTART;TZID=America/New_York:20260519T160000
DTEND;TZID=America/New_York:20260520T020000
DTSTAMP:20260420T191142
CREATED:20260420T192848Z
LAST-MODIFIED:20260420T192848Z
UID:10001240-1779206400-1779242400@creeksidecabaret.com
SUMMARY:Bartenders in Bikinis Week!
DESCRIPTION:Serving Cocktails and Bikinis! All Week Long at Creekside Cabaret MAY 18th through 23rd\, our bartenders are serving up Summer in their Bikinis. Join us for HAPPY HOUR every day 4:00PM EST to 7:00PM EST in addition to Monday Night Wings\, Taco Tuesday\, and the sexiest entertainers in Montgomery County.
URL:https://creeksidecabaret.com/event/bartenders-in-bikinis-week/2026-05-19/
ATTACH;FMTTYPE=image/jpeg:https://creeksidecabaret.com/wp-content/uploads/2026/04/Fri1-CC-Bikini-SQUARE-1.jpeg
END:VEVENT
BEGIN:VEVENT
DTSTART;TZID=America/New_York:20260520T160000
DTEND;TZID=America/New_York:20260521T020000
DTSTAMP:20260420T191142
CREATED:20260420T192848Z
LAST-MODIFIED:20260420T192848Z
UID:10001241-1779292800-1779328800@creeksidecabaret.com
SUMMARY:Bartenders in Bikinis Week!
DESCRIPTION:Serving Cocktails and Bikinis! All Week Long at Creekside Cabaret MAY 18th through 23rd\, our bartenders are serving up Summer in their Bikinis. Join us for HAPPY HOUR every day 4:00PM EST to 7:00PM EST in addition to Monday Night Wings\, Taco Tuesday\, and the sexiest entertainers in Montgomery County.
URL:https://creeksidecabaret.com/event/bartenders-in-bikinis-week/2026-05-20/
ATTACH;FMTTYPE=image/jpeg:https://creeksidecabaret.com/wp-content/uploads/2026/04/Fri1-CC-Bikini-SQUARE-1.jpeg
END:VEVENT
BEGIN:VEVENT
DTSTART;TZID=America/New_York:20260521T160000
DTEND;TZID=America/New_York:20260522T020000
DTSTAMP:20260420T191142
CREATED:20260420T192848Z
LAST-MODIFIED:20260420T192848Z
UID:10001242-1779379200-1779415200@creeksidecabaret.com
SUMMARY:Bartenders in Bikinis Week!
DESCRIPTION:Serving Cocktails and Bikinis! All Week Long at Creekside Cabaret MAY 18th through 23rd\, our bartenders are serving up Summer in their Bikinis. Join us for HAPPY HOUR every day 4:00PM EST to 7:00PM EST in addition to Monday Night Wings\, Taco Tuesday\, and the sexiest entertainers in Montgomery County.
URL:https://creeksidecabaret.com/event/bartenders-in-bikinis-week/2026-05-21/
ATTACH;FMTTYPE=image/jpeg:https://creeksidecabaret.com/wp-content/uploads/2026/04/Fri1-CC-Bikini-SQUARE-1.jpeg
END:VEVENT
BEGIN:VEVENT
DTSTART;TZID=America/New_York:20260522T160000
DTEND;TZID=America/New_York:20260523T020000
DTSTAMP:20260420T191142
CREATED:20260420T192848Z
LAST-MODIFIED:20260420T192848Z
UID:10001243-1779465600-1779501600@creeksidecabaret.com
SUMMARY:Bartenders in Bikinis Week!
DESCRIPTION:Serving Cocktails and Bikinis! All Week Long at Creekside Cabaret MAY 18th through 23rd\, our bartenders are serving up Summer in their Bikinis. Join us for HAPPY HOUR every day 4:00PM EST to 7:00PM EST in addition to Monday Night Wings\, Taco Tuesday\, and the sexiest entertainers in Montgomery County.
URL:https://creeksidecabaret.com/event/bartenders-in-bikinis-week/2026-05-22/
ATTACH;FMTTYPE=image/jpeg:https://creeksidecabaret.com/wp-content/uploads/2026/04/Fri1-CC-Bikini-SQUARE-1.jpeg
END:VEVENT
BEGIN:VEVENT
DTSTART;TZID=America/New_York:20260523T160000
DTEND;TZID=America/New_York:20260524T020000
DTSTAMP:20260420T191142
CREATED:20260420T192848Z
LAST-MODIFIED:20260420T192848Z
UID:10001244-1779552000-1779588000@creeksidecabaret.com
SUMMARY:Bartenders in Bikinis Week!
DESCRIPTION:Serving Cocktails and Bikinis! All Week Long at Creekside Cabaret MAY 18th through 23rd\, our bartenders are serving up Summer in their Bikinis. Join us for HAPPY HOUR every day 4:00PM EST to 7:00PM EST in addition to Monday Night Wings\, Taco Tuesday\, and the sexiest entertainers in Montgomery County.
URL:https://creeksidecabaret.com/event/bartenders-in-bikinis-week/2026-05-23/
ATTACH;FMTTYPE=image/jpeg:https://creeksidecabaret.com/wp-content/uploads/2026/04/Fri1-CC-Bikini-SQUARE-1.jpeg
END:VEVENT
END:VCALENDAR