BEGIN:VCALENDAR
VERSION:2.0
PRODID:-//Creekside Cabaret - ECPv6.15.18//NONSGML v1.0//EN
CALSCALE:GREGORIAN
METHOD:PUBLISH
X-ORIGINAL-URL:https://creeksidecabaret.com
X-WR-CALDESC:Events for Creekside Cabaret
REFRESH-INTERVAL;VALUE=DURATION:PT1H
X-Robots-Tag:noindex
X-PUBLISHED-TTL:PT1H
BEGIN:VTIMEZONE
TZID:America/New_York
BEGIN:DAYLIGHT
TZOFFSETFROM:-0500
TZOFFSETTO:-0400
TZNAME:EDT
DTSTART:20290311T070000
END:DAYLIGHT
BEGIN:STANDARD
TZOFFSETFROM:-0400
TZOFFSETTO:-0500
TZNAME:EST
DTSTART:20291104T060000
END:STANDARD
BEGIN:DAYLIGHT
TZOFFSETFROM:-0500
TZOFFSETTO:-0400
TZNAME:EDT
DTSTART:20300310T070000
END:DAYLIGHT
BEGIN:STANDARD
TZOFFSETFROM:-0400
TZOFFSETTO:-0500
TZNAME:EST
DTSTART:20301103T060000
END:STANDARD
BEGIN:DAYLIGHT
TZOFFSETFROM:-0500
TZOFFSETTO:-0400
TZNAME:EDT
DTSTART:20310309T070000
END:DAYLIGHT
BEGIN:STANDARD
TZOFFSETFROM:-0400
TZOFFSETTO:-0500
TZNAME:EST
DTSTART:20311102T060000
END:STANDARD
END:VTIMEZONE
BEGIN:VEVENT
DTSTART;TZID=America/New_York:20300304T190000
DTEND;TZID=America/New_York:20300305T020000
DTSTAMP:20260423T070520
CREATED:20260410T160049Z
LAST-MODIFIED:20260410T160049Z
UID:10000858-1898881200-1898906400@creeksidecabaret.com
SUMMARY:Monday Free Wings!
DESCRIPTION:Join your Creekside Entertainers Monday Nights for Free Wings after 7:00PM EST. Great Food! Great Entertainment.
URL:https://creeksidecabaret.com/event/monday-free-wings/2030-03-04/
ATTACH;FMTTYPE=image/png:https://creeksidecabaret.com/wp-content/uploads/2026/02/Creek-FREE-WINGS-MONDAY-SQUARE-A-1.png
END:VEVENT
BEGIN:VEVENT
DTSTART;TZID=America/New_York:20300305T190000
DTEND;TZID=America/New_York:20300306T020000
DTSTAMP:20260423T070520
CREATED:20260410T160929Z
LAST-MODIFIED:20260410T160929Z
UID:10001179-1898967600-1898992800@creeksidecabaret.com
SUMMARY:Taco Tuesdays!
DESCRIPTION:Join your Creekside Cabaret Entertainers on Tuesdays after 7:00PM EST for Free Tacos! The night lasts until 2:00AM EST
URL:https://creeksidecabaret.com/event/taco-tuesdays/2030-03-05/
ATTACH;FMTTYPE=image/jpeg:https://creeksidecabaret.com/wp-content/uploads/2026/04/Creekside-Taco-Tuesday-AUG-2025-POST.jpg
END:VEVENT
BEGIN:VEVENT
DTSTART;TZID=America/New_York:20300306T200000
DTEND;TZID=America/New_York:20300307T020000
DTSTAMP:20260423T070520
CREATED:20260410T160511Z
LAST-MODIFIED:20260410T160511Z
UID:10000962-1899057600-1899079200@creeksidecabaret.com
SUMMARY:
DESCRIPTION:Creekside Cabaret hosts Amateur Night with Top Shelf Open Bar the first Wednesday of every month. The hottest girls next door take the stage for your votes and to win the $500 first place cash prize. Come join the Open Bar 8:00PM EST – 9:00PM EST and the party!
URL:https://creeksidecabaret.com/event/21644/2030-03-06/
ATTACH;FMTTYPE=image/jpeg:https://creeksidecabaret.com/wp-content/uploads/2025/12/Creekside-Amateur-Night-Open-Bar-2026-Post.jpg
END:VEVENT
BEGIN:VEVENT
DTSTART;TZID=America/New_York:20300311T190000
DTEND;TZID=America/New_York:20300312T020000
DTSTAMP:20260423T070520
CREATED:20260410T160049Z
LAST-MODIFIED:20260410T160049Z
UID:10000859-1899486000-1899511200@creeksidecabaret.com
SUMMARY:Monday Free Wings!
DESCRIPTION:Join your Creekside Entertainers Monday Nights for Free Wings after 7:00PM EST. Great Food! Great Entertainment.
URL:https://creeksidecabaret.com/event/monday-free-wings/2030-03-11/
ATTACH;FMTTYPE=image/png:https://creeksidecabaret.com/wp-content/uploads/2026/02/Creek-FREE-WINGS-MONDAY-SQUARE-A-1.png
END:VEVENT
BEGIN:VEVENT
DTSTART;TZID=America/New_York:20300312T190000
DTEND;TZID=America/New_York:20300313T020000
DTSTAMP:20260423T070520
CREATED:20260410T160929Z
LAST-MODIFIED:20260410T160929Z
UID:10001180-1899572400-1899597600@creeksidecabaret.com
SUMMARY:Taco Tuesdays!
DESCRIPTION:Join your Creekside Cabaret Entertainers on Tuesdays after 7:00PM EST for Free Tacos! The night lasts until 2:00AM EST
URL:https://creeksidecabaret.com/event/taco-tuesdays/2030-03-12/
ATTACH;FMTTYPE=image/jpeg:https://creeksidecabaret.com/wp-content/uploads/2026/04/Creekside-Taco-Tuesday-AUG-2025-POST.jpg
END:VEVENT
BEGIN:VEVENT
DTSTART;TZID=America/New_York:20300318T190000
DTEND;TZID=America/New_York:20300319T020000
DTSTAMP:20260423T070520
CREATED:20260410T160049Z
LAST-MODIFIED:20260410T160049Z
UID:10000860-1900090800-1900116000@creeksidecabaret.com
SUMMARY:Monday Free Wings!
DESCRIPTION:Join your Creekside Entertainers Monday Nights for Free Wings after 7:00PM EST. Great Food! Great Entertainment.
URL:https://creeksidecabaret.com/event/monday-free-wings/2030-03-18/
ATTACH;FMTTYPE=image/png:https://creeksidecabaret.com/wp-content/uploads/2026/02/Creek-FREE-WINGS-MONDAY-SQUARE-A-1.png
END:VEVENT
BEGIN:VEVENT
DTSTART;TZID=America/New_York:20300319T190000
DTEND;TZID=America/New_York:20300320T020000
DTSTAMP:20260423T070520
CREATED:20260410T160929Z
LAST-MODIFIED:20260410T160929Z
UID:10001181-1900177200-1900202400@creeksidecabaret.com
SUMMARY:Taco Tuesdays!
DESCRIPTION:Join your Creekside Cabaret Entertainers on Tuesdays after 7:00PM EST for Free Tacos! The night lasts until 2:00AM EST
URL:https://creeksidecabaret.com/event/taco-tuesdays/2030-03-19/
ATTACH;FMTTYPE=image/jpeg:https://creeksidecabaret.com/wp-content/uploads/2026/04/Creekside-Taco-Tuesday-AUG-2025-POST.jpg
END:VEVENT
BEGIN:VEVENT
DTSTART;TZID=America/New_York:20300325T190000
DTEND;TZID=America/New_York:20300326T020000
DTSTAMP:20260423T070520
CREATED:20260410T160049Z
LAST-MODIFIED:20260410T160049Z
UID:10000861-1900695600-1900720800@creeksidecabaret.com
SUMMARY:Monday Free Wings!
DESCRIPTION:Join your Creekside Entertainers Monday Nights for Free Wings after 7:00PM EST. Great Food! Great Entertainment.
URL:https://creeksidecabaret.com/event/monday-free-wings/2030-03-25/
ATTACH;FMTTYPE=image/png:https://creeksidecabaret.com/wp-content/uploads/2026/02/Creek-FREE-WINGS-MONDAY-SQUARE-A-1.png
END:VEVENT
BEGIN:VEVENT
DTSTART;TZID=America/New_York:20300326T190000
DTEND;TZID=America/New_York:20300327T020000
DTSTAMP:20260423T070520
CREATED:20260410T160929Z
LAST-MODIFIED:20260410T160929Z
UID:10001182-1900782000-1900807200@creeksidecabaret.com
SUMMARY:Taco Tuesdays!
DESCRIPTION:Join your Creekside Cabaret Entertainers on Tuesdays after 7:00PM EST for Free Tacos! The night lasts until 2:00AM EST
URL:https://creeksidecabaret.com/event/taco-tuesdays/2030-03-26/
ATTACH;FMTTYPE=image/jpeg:https://creeksidecabaret.com/wp-content/uploads/2026/04/Creekside-Taco-Tuesday-AUG-2025-POST.jpg
END:VEVENT
END:VCALENDAR