BEGIN:VCALENDAR
VERSION:2.0
PRODID:-//Creekside Cabaret - ECPv6.15.18//NONSGML v1.0//EN
CALSCALE:GREGORIAN
METHOD:PUBLISH
X-WR-CALNAME:Creekside Cabaret
X-ORIGINAL-URL:https://creeksidecabaret.com
X-WR-CALDESC:Events for Creekside Cabaret
REFRESH-INTERVAL;VALUE=DURATION:PT1H
X-Robots-Tag:noindex
X-PUBLISHED-TTL:PT1H
BEGIN:VTIMEZONE
TZID:America/New_York
BEGIN:DAYLIGHT
TZOFFSETFROM:-0500
TZOFFSETTO:-0400
TZNAME:EDT
DTSTART:20280312T070000
END:DAYLIGHT
BEGIN:STANDARD
TZOFFSETFROM:-0400
TZOFFSETTO:-0500
TZNAME:EST
DTSTART:20281105T060000
END:STANDARD
BEGIN:DAYLIGHT
TZOFFSETFROM:-0500
TZOFFSETTO:-0400
TZNAME:EDT
DTSTART:20290311T070000
END:DAYLIGHT
BEGIN:STANDARD
TZOFFSETFROM:-0400
TZOFFSETTO:-0500
TZNAME:EST
DTSTART:20291104T060000
END:STANDARD
BEGIN:DAYLIGHT
TZOFFSETFROM:-0500
TZOFFSETTO:-0400
TZNAME:EDT
DTSTART:20300310T070000
END:DAYLIGHT
BEGIN:STANDARD
TZOFFSETFROM:-0400
TZOFFSETTO:-0500
TZNAME:EST
DTSTART:20301103T060000
END:STANDARD
END:VTIMEZONE
BEGIN:VEVENT
DTSTART;TZID=America/New_York:20290731T190000
DTEND;TZID=America/New_York:20290801T020000
DTSTAMP:20260422T181049
CREATED:20260410T160929Z
LAST-MODIFIED:20260410T160929Z
UID:10001148-1880218800-1880244000@creeksidecabaret.com
SUMMARY:Taco Tuesdays!
DESCRIPTION:Join your Creekside Cabaret Entertainers on Tuesdays after 7:00PM EST for Free Tacos! The night lasts until 2:00AM EST
URL:https://creeksidecabaret.com/event/taco-tuesdays/2029-07-31/
ATTACH;FMTTYPE=image/jpeg:https://creeksidecabaret.com/wp-content/uploads/2026/04/Creekside-Taco-Tuesday-AUG-2025-POST.jpg
END:VEVENT
BEGIN:VEVENT
DTSTART;TZID=America/New_York:20290801T200000
DTEND;TZID=America/New_York:20290802T020000
DTSTAMP:20260422T181049
CREATED:20260410T160511Z
LAST-MODIFIED:20260410T160511Z
UID:10000955-1880308800-1880330400@creeksidecabaret.com
SUMMARY:
DESCRIPTION:Creekside Cabaret hosts Amateur Night with Top Shelf Open Bar the first Wednesday of every month. The hottest girls next door take the stage for your votes and to win the $500 first place cash prize. Come join the Open Bar 8:00PM EST – 9:00PM EST and the party!
URL:https://creeksidecabaret.com/event/21644/2029-08-01/
ATTACH;FMTTYPE=image/jpeg:https://creeksidecabaret.com/wp-content/uploads/2025/12/Creekside-Amateur-Night-Open-Bar-2026-Post.jpg
END:VEVENT
BEGIN:VEVENT
DTSTART;TZID=America/New_York:20290806T190000
DTEND;TZID=America/New_York:20290807T020000
DTSTAMP:20260422T181049
CREATED:20260410T160049Z
LAST-MODIFIED:20260410T160049Z
UID:10000828-1880737200-1880762400@creeksidecabaret.com
SUMMARY:Monday Free Wings!
DESCRIPTION:Join your Creekside Entertainers Monday Nights for Free Wings after 7:00PM EST. Great Food! Great Entertainment.
URL:https://creeksidecabaret.com/event/monday-free-wings/2029-08-06/
ATTACH;FMTTYPE=image/png:https://creeksidecabaret.com/wp-content/uploads/2026/02/Creek-FREE-WINGS-MONDAY-SQUARE-A-1.png
END:VEVENT
BEGIN:VEVENT
DTSTART;TZID=America/New_York:20290807T190000
DTEND;TZID=America/New_York:20290808T020000
DTSTAMP:20260422T181049
CREATED:20260410T160929Z
LAST-MODIFIED:20260410T160929Z
UID:10001149-1880823600-1880848800@creeksidecabaret.com
SUMMARY:Taco Tuesdays!
DESCRIPTION:Join your Creekside Cabaret Entertainers on Tuesdays after 7:00PM EST for Free Tacos! The night lasts until 2:00AM EST
URL:https://creeksidecabaret.com/event/taco-tuesdays/2029-08-07/
ATTACH;FMTTYPE=image/jpeg:https://creeksidecabaret.com/wp-content/uploads/2026/04/Creekside-Taco-Tuesday-AUG-2025-POST.jpg
END:VEVENT
BEGIN:VEVENT
DTSTART;TZID=America/New_York:20290813T190000
DTEND;TZID=America/New_York:20290814T020000
DTSTAMP:20260422T181049
CREATED:20260410T160049Z
LAST-MODIFIED:20260410T160049Z
UID:10000829-1881342000-1881367200@creeksidecabaret.com
SUMMARY:Monday Free Wings!
DESCRIPTION:Join your Creekside Entertainers Monday Nights for Free Wings after 7:00PM EST. Great Food! Great Entertainment.
URL:https://creeksidecabaret.com/event/monday-free-wings/2029-08-13/
ATTACH;FMTTYPE=image/png:https://creeksidecabaret.com/wp-content/uploads/2026/02/Creek-FREE-WINGS-MONDAY-SQUARE-A-1.png
END:VEVENT
BEGIN:VEVENT
DTSTART;TZID=America/New_York:20290814T190000
DTEND;TZID=America/New_York:20290815T020000
DTSTAMP:20260422T181049
CREATED:20260410T160929Z
LAST-MODIFIED:20260410T160929Z
UID:10001150-1881428400-1881453600@creeksidecabaret.com
SUMMARY:Taco Tuesdays!
DESCRIPTION:Join your Creekside Cabaret Entertainers on Tuesdays after 7:00PM EST for Free Tacos! The night lasts until 2:00AM EST
URL:https://creeksidecabaret.com/event/taco-tuesdays/2029-08-14/
ATTACH;FMTTYPE=image/jpeg:https://creeksidecabaret.com/wp-content/uploads/2026/04/Creekside-Taco-Tuesday-AUG-2025-POST.jpg
END:VEVENT
BEGIN:VEVENT
DTSTART;TZID=America/New_York:20290820T190000
DTEND;TZID=America/New_York:20290821T020000
DTSTAMP:20260422T181049
CREATED:20260410T160049Z
LAST-MODIFIED:20260410T160049Z
UID:10000830-1881946800-1881972000@creeksidecabaret.com
SUMMARY:Monday Free Wings!
DESCRIPTION:Join your Creekside Entertainers Monday Nights for Free Wings after 7:00PM EST. Great Food! Great Entertainment.
URL:https://creeksidecabaret.com/event/monday-free-wings/2029-08-20/
ATTACH;FMTTYPE=image/png:https://creeksidecabaret.com/wp-content/uploads/2026/02/Creek-FREE-WINGS-MONDAY-SQUARE-A-1.png
END:VEVENT
BEGIN:VEVENT
DTSTART;TZID=America/New_York:20290821T190000
DTEND;TZID=America/New_York:20290822T020000
DTSTAMP:20260422T181049
CREATED:20260410T160929Z
LAST-MODIFIED:20260410T160929Z
UID:10001151-1882033200-1882058400@creeksidecabaret.com
SUMMARY:Taco Tuesdays!
DESCRIPTION:Join your Creekside Cabaret Entertainers on Tuesdays after 7:00PM EST for Free Tacos! The night lasts until 2:00AM EST
URL:https://creeksidecabaret.com/event/taco-tuesdays/2029-08-21/
ATTACH;FMTTYPE=image/jpeg:https://creeksidecabaret.com/wp-content/uploads/2026/04/Creekside-Taco-Tuesday-AUG-2025-POST.jpg
END:VEVENT
BEGIN:VEVENT
DTSTART;TZID=America/New_York:20290827T190000
DTEND;TZID=America/New_York:20290828T020000
DTSTAMP:20260422T181049
CREATED:20260410T160049Z
LAST-MODIFIED:20260410T160049Z
UID:10000831-1882551600-1882576800@creeksidecabaret.com
SUMMARY:Monday Free Wings!
DESCRIPTION:Join your Creekside Entertainers Monday Nights for Free Wings after 7:00PM EST. Great Food! Great Entertainment.
URL:https://creeksidecabaret.com/event/monday-free-wings/2029-08-27/
ATTACH;FMTTYPE=image/png:https://creeksidecabaret.com/wp-content/uploads/2026/02/Creek-FREE-WINGS-MONDAY-SQUARE-A-1.png
END:VEVENT
BEGIN:VEVENT
DTSTART;TZID=America/New_York:20290828T190000
DTEND;TZID=America/New_York:20290829T020000
DTSTAMP:20260422T181049
CREATED:20260410T160929Z
LAST-MODIFIED:20260410T160929Z
UID:10001152-1882638000-1882663200@creeksidecabaret.com
SUMMARY:Taco Tuesdays!
DESCRIPTION:Join your Creekside Cabaret Entertainers on Tuesdays after 7:00PM EST for Free Tacos! The night lasts until 2:00AM EST
URL:https://creeksidecabaret.com/event/taco-tuesdays/2029-08-28/
ATTACH;FMTTYPE=image/jpeg:https://creeksidecabaret.com/wp-content/uploads/2026/04/Creekside-Taco-Tuesday-AUG-2025-POST.jpg
END:VEVENT
END:VCALENDAR