BEGIN:VCALENDAR
VERSION:2.0
PRODID:-//Creekside Cabaret - ECPv6.15.18//NONSGML v1.0//EN
CALSCALE:GREGORIAN
METHOD:PUBLISH
X-WR-CALNAME:Creekside Cabaret
X-ORIGINAL-URL:https://creeksidecabaret.com
X-WR-CALDESC:Events for Creekside Cabaret
REFRESH-INTERVAL;VALUE=DURATION:PT1H
X-Robots-Tag:noindex
X-PUBLISHED-TTL:PT1H
BEGIN:VTIMEZONE
TZID:America/New_York
BEGIN:DAYLIGHT
TZOFFSETFROM:-0500
TZOFFSETTO:-0400
TZNAME:EDT
DTSTART:20270314T070000
END:DAYLIGHT
BEGIN:STANDARD
TZOFFSETFROM:-0400
TZOFFSETTO:-0500
TZNAME:EST
DTSTART:20271107T060000
END:STANDARD
BEGIN:DAYLIGHT
TZOFFSETFROM:-0500
TZOFFSETTO:-0400
TZNAME:EDT
DTSTART:20280312T070000
END:DAYLIGHT
BEGIN:STANDARD
TZOFFSETFROM:-0400
TZOFFSETTO:-0500
TZNAME:EST
DTSTART:20281105T060000
END:STANDARD
BEGIN:DAYLIGHT
TZOFFSETFROM:-0500
TZOFFSETTO:-0400
TZNAME:EDT
DTSTART:20290311T070000
END:DAYLIGHT
BEGIN:STANDARD
TZOFFSETFROM:-0400
TZOFFSETTO:-0500
TZNAME:EST
DTSTART:20291104T060000
END:STANDARD
END:VTIMEZONE
BEGIN:VEVENT
DTSTART;TZID=America/New_York:20280731T190000
DTEND;TZID=America/New_York:20280801T020000
DTSTAMP:20260421T203008
CREATED:20260410T160049Z
LAST-MODIFIED:20260410T160049Z
UID:10000775-1848682800-1848708000@creeksidecabaret.com
SUMMARY:Monday Free Wings!
DESCRIPTION:Join your Creekside Entertainers Monday Nights for Free Wings after 7:00PM EST. Great Food! Great Entertainment.
URL:https://creeksidecabaret.com/event/monday-free-wings/2028-07-31/
ATTACH;FMTTYPE=image/png:https://creeksidecabaret.com/wp-content/uploads/2026/02/Creek-FREE-WINGS-MONDAY-SQUARE-A-1.png
END:VEVENT
BEGIN:VEVENT
DTSTART;TZID=America/New_York:20280801T190000
DTEND;TZID=America/New_York:20280802T020000
DTSTAMP:20260421T203008
CREATED:20260410T160929Z
LAST-MODIFIED:20260410T160929Z
UID:10001096-1848769200-1848794400@creeksidecabaret.com
SUMMARY:Taco Tuesdays!
DESCRIPTION:Join your Creekside Cabaret Entertainers on Tuesdays after 7:00PM EST for Free Tacos! The night lasts until 2:00AM EST
URL:https://creeksidecabaret.com/event/taco-tuesdays/2028-08-01/
ATTACH;FMTTYPE=image/jpeg:https://creeksidecabaret.com/wp-content/uploads/2026/04/Creekside-Taco-Tuesday-AUG-2025-POST.jpg
END:VEVENT
BEGIN:VEVENT
DTSTART;TZID=America/New_York:20280802T200000
DTEND;TZID=America/New_York:20280803T020000
DTSTAMP:20260421T203008
CREATED:20260410T160511Z
LAST-MODIFIED:20260410T160511Z
UID:10000943-1848859200-1848880800@creeksidecabaret.com
SUMMARY:
DESCRIPTION:Creekside Cabaret hosts Amateur Night with Top Shelf Open Bar the first Wednesday of every month. The hottest girls next door take the stage for your votes and to win the $500 first place cash prize. Come join the Open Bar 8:00PM EST – 9:00PM EST and the party!
URL:https://creeksidecabaret.com/event/21644/2028-08-02/
ATTACH;FMTTYPE=image/jpeg:https://creeksidecabaret.com/wp-content/uploads/2025/12/Creekside-Amateur-Night-Open-Bar-2026-Post.jpg
END:VEVENT
BEGIN:VEVENT
DTSTART;TZID=America/New_York:20280807T190000
DTEND;TZID=America/New_York:20280808T020000
DTSTAMP:20260421T203008
CREATED:20260410T160049Z
LAST-MODIFIED:20260410T160049Z
UID:10000776-1849287600-1849312800@creeksidecabaret.com
SUMMARY:Monday Free Wings!
DESCRIPTION:Join your Creekside Entertainers Monday Nights for Free Wings after 7:00PM EST. Great Food! Great Entertainment.
URL:https://creeksidecabaret.com/event/monday-free-wings/2028-08-07/
ATTACH;FMTTYPE=image/png:https://creeksidecabaret.com/wp-content/uploads/2026/02/Creek-FREE-WINGS-MONDAY-SQUARE-A-1.png
END:VEVENT
BEGIN:VEVENT
DTSTART;TZID=America/New_York:20280808T190000
DTEND;TZID=America/New_York:20280809T020000
DTSTAMP:20260421T203008
CREATED:20260410T160929Z
LAST-MODIFIED:20260410T160929Z
UID:10001097-1849374000-1849399200@creeksidecabaret.com
SUMMARY:Taco Tuesdays!
DESCRIPTION:Join your Creekside Cabaret Entertainers on Tuesdays after 7:00PM EST for Free Tacos! The night lasts until 2:00AM EST
URL:https://creeksidecabaret.com/event/taco-tuesdays/2028-08-08/
ATTACH;FMTTYPE=image/jpeg:https://creeksidecabaret.com/wp-content/uploads/2026/04/Creekside-Taco-Tuesday-AUG-2025-POST.jpg
END:VEVENT
BEGIN:VEVENT
DTSTART;TZID=America/New_York:20280814T190000
DTEND;TZID=America/New_York:20280815T020000
DTSTAMP:20260421T203008
CREATED:20260410T160049Z
LAST-MODIFIED:20260410T160049Z
UID:10000777-1849892400-1849917600@creeksidecabaret.com
SUMMARY:Monday Free Wings!
DESCRIPTION:Join your Creekside Entertainers Monday Nights for Free Wings after 7:00PM EST. Great Food! Great Entertainment.
URL:https://creeksidecabaret.com/event/monday-free-wings/2028-08-14/
ATTACH;FMTTYPE=image/png:https://creeksidecabaret.com/wp-content/uploads/2026/02/Creek-FREE-WINGS-MONDAY-SQUARE-A-1.png
END:VEVENT
BEGIN:VEVENT
DTSTART;TZID=America/New_York:20280815T190000
DTEND;TZID=America/New_York:20280816T020000
DTSTAMP:20260421T203008
CREATED:20260410T160929Z
LAST-MODIFIED:20260410T160929Z
UID:10001098-1849978800-1850004000@creeksidecabaret.com
SUMMARY:Taco Tuesdays!
DESCRIPTION:Join your Creekside Cabaret Entertainers on Tuesdays after 7:00PM EST for Free Tacos! The night lasts until 2:00AM EST
URL:https://creeksidecabaret.com/event/taco-tuesdays/2028-08-15/
ATTACH;FMTTYPE=image/jpeg:https://creeksidecabaret.com/wp-content/uploads/2026/04/Creekside-Taco-Tuesday-AUG-2025-POST.jpg
END:VEVENT
BEGIN:VEVENT
DTSTART;TZID=America/New_York:20280821T190000
DTEND;TZID=America/New_York:20280822T020000
DTSTAMP:20260421T203009
CREATED:20260410T160049Z
LAST-MODIFIED:20260410T160049Z
UID:10000778-1850497200-1850522400@creeksidecabaret.com
SUMMARY:Monday Free Wings!
DESCRIPTION:Join your Creekside Entertainers Monday Nights for Free Wings after 7:00PM EST. Great Food! Great Entertainment.
URL:https://creeksidecabaret.com/event/monday-free-wings/2028-08-21/
ATTACH;FMTTYPE=image/png:https://creeksidecabaret.com/wp-content/uploads/2026/02/Creek-FREE-WINGS-MONDAY-SQUARE-A-1.png
END:VEVENT
BEGIN:VEVENT
DTSTART;TZID=America/New_York:20280822T190000
DTEND;TZID=America/New_York:20280823T020000
DTSTAMP:20260421T203009
CREATED:20260410T160929Z
LAST-MODIFIED:20260410T160929Z
UID:10001099-1850583600-1850608800@creeksidecabaret.com
SUMMARY:Taco Tuesdays!
DESCRIPTION:Join your Creekside Cabaret Entertainers on Tuesdays after 7:00PM EST for Free Tacos! The night lasts until 2:00AM EST
URL:https://creeksidecabaret.com/event/taco-tuesdays/2028-08-22/
ATTACH;FMTTYPE=image/jpeg:https://creeksidecabaret.com/wp-content/uploads/2026/04/Creekside-Taco-Tuesday-AUG-2025-POST.jpg
END:VEVENT
BEGIN:VEVENT
DTSTART;TZID=America/New_York:20280828T190000
DTEND;TZID=America/New_York:20280829T020000
DTSTAMP:20260421T203009
CREATED:20260410T160049Z
LAST-MODIFIED:20260410T160049Z
UID:10000779-1851102000-1851127200@creeksidecabaret.com
SUMMARY:Monday Free Wings!
DESCRIPTION:Join your Creekside Entertainers Monday Nights for Free Wings after 7:00PM EST. Great Food! Great Entertainment.
URL:https://creeksidecabaret.com/event/monday-free-wings/2028-08-28/
ATTACH;FMTTYPE=image/png:https://creeksidecabaret.com/wp-content/uploads/2026/02/Creek-FREE-WINGS-MONDAY-SQUARE-A-1.png
END:VEVENT
BEGIN:VEVENT
DTSTART;TZID=America/New_York:20280829T190000
DTEND;TZID=America/New_York:20280830T020000
DTSTAMP:20260421T203009
CREATED:20260410T160929Z
LAST-MODIFIED:20260410T160929Z
UID:10001100-1851188400-1851213600@creeksidecabaret.com
SUMMARY:Taco Tuesdays!
DESCRIPTION:Join your Creekside Cabaret Entertainers on Tuesdays after 7:00PM EST for Free Tacos! The night lasts until 2:00AM EST
URL:https://creeksidecabaret.com/event/taco-tuesdays/2028-08-29/
ATTACH;FMTTYPE=image/jpeg:https://creeksidecabaret.com/wp-content/uploads/2026/04/Creekside-Taco-Tuesday-AUG-2025-POST.jpg
END:VEVENT
END:VCALENDAR