BEGIN:VCALENDAR
VERSION:2.0
PRODID:-//Creekside Cabaret - ECPv6.15.18//NONSGML v1.0//EN
CALSCALE:GREGORIAN
METHOD:PUBLISH
X-ORIGINAL-URL:https://creeksidecabaret.com
X-WR-CALDESC:Events for Creekside Cabaret
REFRESH-INTERVAL;VALUE=DURATION:PT1H
X-Robots-Tag:noindex
X-PUBLISHED-TTL:PT1H
BEGIN:VTIMEZONE
TZID:America/New_York
BEGIN:DAYLIGHT
TZOFFSETFROM:-0500
TZOFFSETTO:-0400
TZNAME:EDT
DTSTART:20270314T070000
END:DAYLIGHT
BEGIN:STANDARD
TZOFFSETFROM:-0400
TZOFFSETTO:-0500
TZNAME:EST
DTSTART:20271107T060000
END:STANDARD
BEGIN:DAYLIGHT
TZOFFSETFROM:-0500
TZOFFSETTO:-0400
TZNAME:EDT
DTSTART:20280312T070000
END:DAYLIGHT
BEGIN:STANDARD
TZOFFSETFROM:-0400
TZOFFSETTO:-0500
TZNAME:EST
DTSTART:20281105T060000
END:STANDARD
BEGIN:DAYLIGHT
TZOFFSETFROM:-0500
TZOFFSETTO:-0400
TZNAME:EDT
DTSTART:20290311T070000
END:DAYLIGHT
BEGIN:STANDARD
TZOFFSETFROM:-0400
TZOFFSETTO:-0500
TZNAME:EST
DTSTART:20291104T060000
END:STANDARD
END:VTIMEZONE
BEGIN:VEVENT
DTSTART;TZID=America/New_York:20280131T190000
DTEND;TZID=America/New_York:20280201T020000
DTSTAMP:20260421T111842
CREATED:20260410T160049Z
LAST-MODIFIED:20260410T160049Z
UID:10000749-1832958000-1832983200@creeksidecabaret.com
SUMMARY:Monday Free Wings!
DESCRIPTION:Join your Creekside Entertainers Monday Nights for Free Wings after 7:00PM EST. Great Food! Great Entertainment.
URL:https://creeksidecabaret.com/event/monday-free-wings/2028-01-31/
ATTACH;FMTTYPE=image/png:https://creeksidecabaret.com/wp-content/uploads/2026/02/Creek-FREE-WINGS-MONDAY-SQUARE-A-1.png
END:VEVENT
BEGIN:VEVENT
DTSTART;TZID=America/New_York:20280201T190000
DTEND;TZID=America/New_York:20280202T020000
DTSTAMP:20260421T111842
CREATED:20260410T160929Z
LAST-MODIFIED:20260410T160929Z
UID:10001070-1833044400-1833069600@creeksidecabaret.com
SUMMARY:Taco Tuesdays!
DESCRIPTION:Join your Creekside Cabaret Entertainers on Tuesdays after 7:00PM EST for Free Tacos! The night lasts until 2:00AM EST
URL:https://creeksidecabaret.com/event/taco-tuesdays/2028-02-01/
ATTACH;FMTTYPE=image/jpeg:https://creeksidecabaret.com/wp-content/uploads/2026/04/Creekside-Taco-Tuesday-AUG-2025-POST.jpg
END:VEVENT
BEGIN:VEVENT
DTSTART;TZID=America/New_York:20280202T200000
DTEND;TZID=America/New_York:20280203T020000
DTSTAMP:20260421T111842
CREATED:20260410T160511Z
LAST-MODIFIED:20260410T160511Z
UID:10000937-1833134400-1833156000@creeksidecabaret.com
SUMMARY:
DESCRIPTION:Creekside Cabaret hosts Amateur Night with Top Shelf Open Bar the first Wednesday of every month. The hottest girls next door take the stage for your votes and to win the $500 first place cash prize. Come join the Open Bar 8:00PM EST – 9:00PM EST and the party!
URL:https://creeksidecabaret.com/event/21644/2028-02-02/
ATTACH;FMTTYPE=image/jpeg:https://creeksidecabaret.com/wp-content/uploads/2025/12/Creekside-Amateur-Night-Open-Bar-2026-Post.jpg
END:VEVENT
BEGIN:VEVENT
DTSTART;TZID=America/New_York:20280207T190000
DTEND;TZID=America/New_York:20280208T020000
DTSTAMP:20260421T111842
CREATED:20260410T160049Z
LAST-MODIFIED:20260410T160049Z
UID:10000750-1833562800-1833588000@creeksidecabaret.com
SUMMARY:Monday Free Wings!
DESCRIPTION:Join your Creekside Entertainers Monday Nights for Free Wings after 7:00PM EST. Great Food! Great Entertainment.
URL:https://creeksidecabaret.com/event/monday-free-wings/2028-02-07/
ATTACH;FMTTYPE=image/png:https://creeksidecabaret.com/wp-content/uploads/2026/02/Creek-FREE-WINGS-MONDAY-SQUARE-A-1.png
END:VEVENT
BEGIN:VEVENT
DTSTART;TZID=America/New_York:20280208T190000
DTEND;TZID=America/New_York:20280209T020000
DTSTAMP:20260421T111842
CREATED:20260410T160929Z
LAST-MODIFIED:20260410T160929Z
UID:10001071-1833649200-1833674400@creeksidecabaret.com
SUMMARY:Taco Tuesdays!
DESCRIPTION:Join your Creekside Cabaret Entertainers on Tuesdays after 7:00PM EST for Free Tacos! The night lasts until 2:00AM EST
URL:https://creeksidecabaret.com/event/taco-tuesdays/2028-02-08/
ATTACH;FMTTYPE=image/jpeg:https://creeksidecabaret.com/wp-content/uploads/2026/04/Creekside-Taco-Tuesday-AUG-2025-POST.jpg
END:VEVENT
BEGIN:VEVENT
DTSTART;TZID=America/New_York:20280214T190000
DTEND;TZID=America/New_York:20280215T020000
DTSTAMP:20260421T111842
CREATED:20260410T160049Z
LAST-MODIFIED:20260410T160049Z
UID:10000751-1834167600-1834192800@creeksidecabaret.com
SUMMARY:Monday Free Wings!
DESCRIPTION:Join your Creekside Entertainers Monday Nights for Free Wings after 7:00PM EST. Great Food! Great Entertainment.
URL:https://creeksidecabaret.com/event/monday-free-wings/2028-02-14/
ATTACH;FMTTYPE=image/png:https://creeksidecabaret.com/wp-content/uploads/2026/02/Creek-FREE-WINGS-MONDAY-SQUARE-A-1.png
END:VEVENT
BEGIN:VEVENT
DTSTART;TZID=America/New_York:20280215T190000
DTEND;TZID=America/New_York:20280216T020000
DTSTAMP:20260421T111842
CREATED:20260410T160929Z
LAST-MODIFIED:20260410T160929Z
UID:10001072-1834254000-1834279200@creeksidecabaret.com
SUMMARY:Taco Tuesdays!
DESCRIPTION:Join your Creekside Cabaret Entertainers on Tuesdays after 7:00PM EST for Free Tacos! The night lasts until 2:00AM EST
URL:https://creeksidecabaret.com/event/taco-tuesdays/2028-02-15/
ATTACH;FMTTYPE=image/jpeg:https://creeksidecabaret.com/wp-content/uploads/2026/04/Creekside-Taco-Tuesday-AUG-2025-POST.jpg
END:VEVENT
BEGIN:VEVENT
DTSTART;TZID=America/New_York:20280221T190000
DTEND;TZID=America/New_York:20280222T020000
DTSTAMP:20260421T111842
CREATED:20260410T160049Z
LAST-MODIFIED:20260410T160049Z
UID:10000752-1834772400-1834797600@creeksidecabaret.com
SUMMARY:Monday Free Wings!
DESCRIPTION:Join your Creekside Entertainers Monday Nights for Free Wings after 7:00PM EST. Great Food! Great Entertainment.
URL:https://creeksidecabaret.com/event/monday-free-wings/2028-02-21/
ATTACH;FMTTYPE=image/png:https://creeksidecabaret.com/wp-content/uploads/2026/02/Creek-FREE-WINGS-MONDAY-SQUARE-A-1.png
END:VEVENT
BEGIN:VEVENT
DTSTART;TZID=America/New_York:20280222T190000
DTEND;TZID=America/New_York:20280223T020000
DTSTAMP:20260421T111842
CREATED:20260410T160929Z
LAST-MODIFIED:20260410T160929Z
UID:10001073-1834858800-1834884000@creeksidecabaret.com
SUMMARY:Taco Tuesdays!
DESCRIPTION:Join your Creekside Cabaret Entertainers on Tuesdays after 7:00PM EST for Free Tacos! The night lasts until 2:00AM EST
URL:https://creeksidecabaret.com/event/taco-tuesdays/2028-02-22/
ATTACH;FMTTYPE=image/jpeg:https://creeksidecabaret.com/wp-content/uploads/2026/04/Creekside-Taco-Tuesday-AUG-2025-POST.jpg
END:VEVENT
BEGIN:VEVENT
DTSTART;TZID=America/New_York:20280228T190000
DTEND;TZID=America/New_York:20280229T020000
DTSTAMP:20260421T111842
CREATED:20260410T160049Z
LAST-MODIFIED:20260410T160049Z
UID:10000753-1835377200-1835402400@creeksidecabaret.com
SUMMARY:Monday Free Wings!
DESCRIPTION:Join your Creekside Entertainers Monday Nights for Free Wings after 7:00PM EST. Great Food! Great Entertainment.
URL:https://creeksidecabaret.com/event/monday-free-wings/2028-02-28/
ATTACH;FMTTYPE=image/png:https://creeksidecabaret.com/wp-content/uploads/2026/02/Creek-FREE-WINGS-MONDAY-SQUARE-A-1.png
END:VEVENT
BEGIN:VEVENT
DTSTART;TZID=America/New_York:20280229T190000
DTEND;TZID=America/New_York:20280301T020000
DTSTAMP:20260421T111842
CREATED:20260410T160929Z
LAST-MODIFIED:20260410T160929Z
UID:10001074-1835463600-1835488800@creeksidecabaret.com
SUMMARY:Taco Tuesdays!
DESCRIPTION:Join your Creekside Cabaret Entertainers on Tuesdays after 7:00PM EST for Free Tacos! The night lasts until 2:00AM EST
URL:https://creeksidecabaret.com/event/taco-tuesdays/2028-02-29/
ATTACH;FMTTYPE=image/jpeg:https://creeksidecabaret.com/wp-content/uploads/2026/04/Creekside-Taco-Tuesday-AUG-2025-POST.jpg
END:VEVENT
END:VCALENDAR