BEGIN:VCALENDAR
VERSION:2.0
PRODID:-//Creekside Cabaret - ECPv6.15.18//NONSGML v1.0//EN
CALSCALE:GREGORIAN
METHOD:PUBLISH
X-ORIGINAL-URL:https://creeksidecabaret.com
X-WR-CALDESC:Events for Creekside Cabaret
REFRESH-INTERVAL;VALUE=DURATION:PT1H
X-Robots-Tag:noindex
X-PUBLISHED-TTL:PT1H
BEGIN:VTIMEZONE
TZID:America/New_York
BEGIN:DAYLIGHT
TZOFFSETFROM:-0500
TZOFFSETTO:-0400
TZNAME:EDT
DTSTART:20260308T070000
END:DAYLIGHT
BEGIN:STANDARD
TZOFFSETFROM:-0400
TZOFFSETTO:-0500
TZNAME:EST
DTSTART:20261101T060000
END:STANDARD
BEGIN:DAYLIGHT
TZOFFSETFROM:-0500
TZOFFSETTO:-0400
TZNAME:EDT
DTSTART:20270314T070000
END:DAYLIGHT
BEGIN:STANDARD
TZOFFSETFROM:-0400
TZOFFSETTO:-0500
TZNAME:EST
DTSTART:20271107T060000
END:STANDARD
BEGIN:DAYLIGHT
TZOFFSETFROM:-0500
TZOFFSETTO:-0400
TZNAME:EDT
DTSTART:20280312T070000
END:DAYLIGHT
BEGIN:STANDARD
TZOFFSETFROM:-0400
TZOFFSETTO:-0500
TZNAME:EST
DTSTART:20281105T060000
END:STANDARD
END:VTIMEZONE
BEGIN:VEVENT
DTSTART;TZID=America/New_York:20270405T190000
DTEND;TZID=America/New_York:20270406T020000
DTSTAMP:20260420T191143
CREATED:20260410T160049Z
LAST-MODIFIED:20260410T160049Z
UID:10000706-1806951600-1806976800@creeksidecabaret.com
SUMMARY:Monday Free Wings!
DESCRIPTION:Join your Creekside Entertainers Monday Nights for Free Wings after 7:00PM EST. Great Food! Great Entertainment.
URL:https://creeksidecabaret.com/event/monday-free-wings/2027-04-05/
ATTACH;FMTTYPE=image/png:https://creeksidecabaret.com/wp-content/uploads/2026/02/Creek-FREE-WINGS-MONDAY-SQUARE-A-1.png
END:VEVENT
BEGIN:VEVENT
DTSTART;TZID=America/New_York:20270406T190000
DTEND;TZID=America/New_York:20270407T020000
DTSTAMP:20260420T191143
CREATED:20260410T160929Z
LAST-MODIFIED:20260410T160929Z
UID:10001027-1807038000-1807063200@creeksidecabaret.com
SUMMARY:Taco Tuesdays!
DESCRIPTION:Join your Creekside Cabaret Entertainers on Tuesdays after 7:00PM EST for Free Tacos! The night lasts until 2:00AM EST
URL:https://creeksidecabaret.com/event/taco-tuesdays/2027-04-06/
ATTACH;FMTTYPE=image/jpeg:https://creeksidecabaret.com/wp-content/uploads/2026/04/Creekside-Taco-Tuesday-AUG-2025-POST.jpg
END:VEVENT
BEGIN:VEVENT
DTSTART;TZID=America/New_York:20270407T200000
DTEND;TZID=America/New_York:20270408T020000
DTSTAMP:20260420T191143
CREATED:20260410T160511Z
LAST-MODIFIED:20260410T160511Z
UID:10000927-1807128000-1807149600@creeksidecabaret.com
SUMMARY:
DESCRIPTION:Creekside Cabaret hosts Amateur Night with Top Shelf Open Bar the first Wednesday of every month. The hottest girls next door take the stage for your votes and to win the $500 first place cash prize. Come join the Open Bar 8:00PM EST – 9:00PM EST and the party!
URL:https://creeksidecabaret.com/event/21644/2027-04-07/
ATTACH;FMTTYPE=image/jpeg:https://creeksidecabaret.com/wp-content/uploads/2025/12/Creekside-Amateur-Night-Open-Bar-2026-Post.jpg
END:VEVENT
BEGIN:VEVENT
DTSTART;TZID=America/New_York:20270412T190000
DTEND;TZID=America/New_York:20270413T020000
DTSTAMP:20260420T191143
CREATED:20260410T160049Z
LAST-MODIFIED:20260410T160049Z
UID:10000707-1807556400-1807581600@creeksidecabaret.com
SUMMARY:Monday Free Wings!
DESCRIPTION:Join your Creekside Entertainers Monday Nights for Free Wings after 7:00PM EST. Great Food! Great Entertainment.
URL:https://creeksidecabaret.com/event/monday-free-wings/2027-04-12/
ATTACH;FMTTYPE=image/png:https://creeksidecabaret.com/wp-content/uploads/2026/02/Creek-FREE-WINGS-MONDAY-SQUARE-A-1.png
END:VEVENT
BEGIN:VEVENT
DTSTART;TZID=America/New_York:20270413T190000
DTEND;TZID=America/New_York:20270414T020000
DTSTAMP:20260420T191143
CREATED:20260410T160929Z
LAST-MODIFIED:20260410T160929Z
UID:10001028-1807642800-1807668000@creeksidecabaret.com
SUMMARY:Taco Tuesdays!
DESCRIPTION:Join your Creekside Cabaret Entertainers on Tuesdays after 7:00PM EST for Free Tacos! The night lasts until 2:00AM EST
URL:https://creeksidecabaret.com/event/taco-tuesdays/2027-04-13/
ATTACH;FMTTYPE=image/jpeg:https://creeksidecabaret.com/wp-content/uploads/2026/04/Creekside-Taco-Tuesday-AUG-2025-POST.jpg
END:VEVENT
BEGIN:VEVENT
DTSTART;TZID=America/New_York:20270419T190000
DTEND;TZID=America/New_York:20270420T020000
DTSTAMP:20260420T191143
CREATED:20260410T160049Z
LAST-MODIFIED:20260410T160049Z
UID:10000708-1808161200-1808186400@creeksidecabaret.com
SUMMARY:Monday Free Wings!
DESCRIPTION:Join your Creekside Entertainers Monday Nights for Free Wings after 7:00PM EST. Great Food! Great Entertainment.
URL:https://creeksidecabaret.com/event/monday-free-wings/2027-04-19/
ATTACH;FMTTYPE=image/png:https://creeksidecabaret.com/wp-content/uploads/2026/02/Creek-FREE-WINGS-MONDAY-SQUARE-A-1.png
END:VEVENT
BEGIN:VEVENT
DTSTART;TZID=America/New_York:20270420T190000
DTEND;TZID=America/New_York:20270421T020000
DTSTAMP:20260420T191143
CREATED:20260410T160929Z
LAST-MODIFIED:20260410T160929Z
UID:10001029-1808247600-1808272800@creeksidecabaret.com
SUMMARY:Taco Tuesdays!
DESCRIPTION:Join your Creekside Cabaret Entertainers on Tuesdays after 7:00PM EST for Free Tacos! The night lasts until 2:00AM EST
URL:https://creeksidecabaret.com/event/taco-tuesdays/2027-04-20/
ATTACH;FMTTYPE=image/jpeg:https://creeksidecabaret.com/wp-content/uploads/2026/04/Creekside-Taco-Tuesday-AUG-2025-POST.jpg
END:VEVENT
BEGIN:VEVENT
DTSTART;TZID=America/New_York:20270426T190000
DTEND;TZID=America/New_York:20270427T020000
DTSTAMP:20260420T191143
CREATED:20260410T160049Z
LAST-MODIFIED:20260410T160049Z
UID:10000709-1808766000-1808791200@creeksidecabaret.com
SUMMARY:Monday Free Wings!
DESCRIPTION:Join your Creekside Entertainers Monday Nights for Free Wings after 7:00PM EST. Great Food! Great Entertainment.
URL:https://creeksidecabaret.com/event/monday-free-wings/2027-04-26/
ATTACH;FMTTYPE=image/png:https://creeksidecabaret.com/wp-content/uploads/2026/02/Creek-FREE-WINGS-MONDAY-SQUARE-A-1.png
END:VEVENT
BEGIN:VEVENT
DTSTART;TZID=America/New_York:20270427T190000
DTEND;TZID=America/New_York:20270428T020000
DTSTAMP:20260420T191143
CREATED:20260410T160929Z
LAST-MODIFIED:20260410T160929Z
UID:10001030-1808852400-1808877600@creeksidecabaret.com
SUMMARY:Taco Tuesdays!
DESCRIPTION:Join your Creekside Cabaret Entertainers on Tuesdays after 7:00PM EST for Free Tacos! The night lasts until 2:00AM EST
URL:https://creeksidecabaret.com/event/taco-tuesdays/2027-04-27/
ATTACH;FMTTYPE=image/jpeg:https://creeksidecabaret.com/wp-content/uploads/2026/04/Creekside-Taco-Tuesday-AUG-2025-POST.jpg
END:VEVENT
END:VCALENDAR