BEGIN:VCALENDAR
VERSION:2.0
PRODID:-//Creekside Cabaret - ECPv6.15.18//NONSGML v1.0//EN
CALSCALE:GREGORIAN
METHOD:PUBLISH
X-ORIGINAL-URL:https://creeksidecabaret.com
X-WR-CALDESC:Events for Creekside Cabaret
REFRESH-INTERVAL;VALUE=DURATION:PT1H
X-Robots-Tag:noindex
X-PUBLISHED-TTL:PT1H
BEGIN:VTIMEZONE
TZID:America/New_York
BEGIN:DAYLIGHT
TZOFFSETFROM:-0500
TZOFFSETTO:-0400
TZNAME:EDT
DTSTART:20250309T070000
END:DAYLIGHT
BEGIN:STANDARD
TZOFFSETFROM:-0400
TZOFFSETTO:-0500
TZNAME:EST
DTSTART:20251102T060000
END:STANDARD
BEGIN:DAYLIGHT
TZOFFSETFROM:-0500
TZOFFSETTO:-0400
TZNAME:EDT
DTSTART:20260308T070000
END:DAYLIGHT
BEGIN:STANDARD
TZOFFSETFROM:-0400
TZOFFSETTO:-0500
TZNAME:EST
DTSTART:20261101T060000
END:STANDARD
BEGIN:DAYLIGHT
TZOFFSETFROM:-0500
TZOFFSETTO:-0400
TZNAME:EDT
DTSTART:20270314T070000
END:DAYLIGHT
BEGIN:STANDARD
TZOFFSETFROM:-0400
TZOFFSETTO:-0500
TZNAME:EST
DTSTART:20271107T060000
END:STANDARD
BEGIN:DAYLIGHT
TZOFFSETFROM:-0500
TZOFFSETTO:-0400
TZNAME:EDT
DTSTART:20280312T070000
END:DAYLIGHT
BEGIN:STANDARD
TZOFFSETFROM:-0400
TZOFFSETTO:-0500
TZNAME:EST
DTSTART:20281105T060000
END:STANDARD
BEGIN:DAYLIGHT
TZOFFSETFROM:-0500
TZOFFSETTO:-0400
TZNAME:EDT
DTSTART:20290311T070000
END:DAYLIGHT
BEGIN:STANDARD
TZOFFSETFROM:-0400
TZOFFSETTO:-0500
TZNAME:EST
DTSTART:20291104T060000
END:STANDARD
END:VTIMEZONE
BEGIN:VEVENT
DTSTART;TZID=America/New_York:20260415T220000
DTEND;TZID=America/New_York:20260416T020000
DTSTAMP:20260420T160803
CREATED:20260410T154342Z
LAST-MODIFIED:20260410T154510Z
UID:10000651-1776290400-1776304800@creeksidecabaret.com
SUMMARY:Gizelle Blanco! One Night Only
DESCRIPTION:Creekside Cabaret present Gizelle Blanco for one night only on Wednesday\, April 15. 2026. Your favorite Hawaiian Latina Adult Star is back to bare all on stage for two shows: 10:00PM EST and 12:00AM EST followed by her meet and greets. Come party with Gizelle Blanco until 2:00AM EST at Creekside Cabaret.
URL:https://creeksidecabaret.com/event/gizelle-blanco-one-night-only/
ATTACH;FMTTYPE=image/png:https://creeksidecabaret.com/wp-content/uploads/2026/02/Creek-GIZELLE-BLANCO-APR-2026-Post-03-16-26.png
END:VEVENT
BEGIN:VEVENT
DTSTART;TZID=America/New_York:20260429T200000
DTEND;TZID=America/New_York:20260429T225900
DTSTAMP:20260420T160803
CREATED:20260303T172433Z
LAST-MODIFIED:20260303T172433Z
UID:10000647-1777492800-1777503540@creeksidecabaret.com
SUMMARY:Birthday Suit Party
DESCRIPTION:Your Creekside Cabaret entertainers Bare All on Wednesday April 29\, 2026 starting at 9:00PM!
URL:https://creeksidecabaret.com/event/birthday-suit-party/
ATTACH;FMTTYPE=image/jpeg:https://creeksidecabaret.com/wp-content/uploads/2026/03/Creekside-BIRTHDAY-SUIT-PARTY-APR-2026-Post.jpg
END:VEVENT
BEGIN:VEVENT
DTSTART;TZID=America/New_York:20260429T210000
DTEND;TZID=America/New_York:20260430T020000
DTSTAMP:20260420T160803
CREATED:20260410T154939Z
LAST-MODIFIED:20260410T154939Z
UID:10000652-1777496400-1777514400@creeksidecabaret.com
SUMMARY:Birthday Suit Party!
DESCRIPTION:Your Creekside Entertainers Bare All during our Birthday Suit Party on Wednesday April 29. 2-26 starting at 9:00PM EST. The party lasts until 2:00AM EST.
URL:https://creeksidecabaret.com/event/birthday-suit-party-2/
ATTACH;FMTTYPE=image/jpeg:https://creeksidecabaret.com/wp-content/uploads/2026/03/Creekside-BIRTHDAY-SUIT-PARTY-APR-2026-Post.jpg
END:VEVENT
BEGIN:VEVENT
DTSTART;TZID=America/New_York:20260502T200000
DTEND;TZID=America/New_York:20260503T020000
DTSTAMP:20260420T160803
CREATED:20260420T191812Z
LAST-MODIFIED:20260420T191812Z
UID:10001237-1777752000-1777773600@creeksidecabaret.com
SUMMARY:
DESCRIPTION:Cruiser Weight World Championship: Benavidez vs Zurdo coming to you on Saturday\, May 2\, 2026 from the T-Mobile Arena at *;;0PM EST. Come watch the action of PBC on our giant viewing screen with your Creekside Entertainers until 2:00AM EST.
URL:https://creeksidecabaret.com/event/21655/
ATTACH;FMTTYPE=image/png:https://creeksidecabaret.com/wp-content/uploads/2026/04/Creekside-BENAVIDEZ-vs-ZURDO-MAY-2-2026-POST.png
END:VEVENT
BEGIN:VEVENT
DTSTART;TZID=America/New_York:20260506T200000
DTEND;TZID=America/New_York:20260507T020000
DTSTAMP:20260420T160803
CREATED:20260410T160511Z
LAST-MODIFIED:20260410T160511Z
UID:10000916-1778097600-1778119200@creeksidecabaret.com
SUMMARY:
DESCRIPTION:Creekside Cabaret hosts Amateur Night with Top Shelf Open Bar the first Wednesday of every month. The hottest girls next door take the stage for your votes and to win the $500 first place cash prize. Come join the Open Bar 8:00PM EST – 9:00PM EST and the party!
URL:https://creeksidecabaret.com/event/21644/2026-05-06/
ATTACH;FMTTYPE=image/jpeg:https://creeksidecabaret.com/wp-content/uploads/2025/12/Creekside-Amateur-Night-Open-Bar-2026-Post.jpg
END:VEVENT
BEGIN:VEVENT
DTSTART;TZID=America/New_York:20260509T210000
DTEND;TZID=America/New_York:20260510T020000
DTSTAMP:20260420T160803
CREATED:20260420T192216Z
LAST-MODIFIED:20260420T192216Z
UID:10001238-1778360400-1778378400@creeksidecabaret.com
SUMMARY:UFC 328 Chimaev vs. Strickland
DESCRIPTION:Join your Creekside Entertainers for the MMA Action of UFC 328 Chimaev vs Strickland on Saturday May 9\, 2026 at 9:00PM EST. The party lasts until 2:00AM EST.
URL:https://creeksidecabaret.com/event/ufc-328-chimaev-vs-strickland/
ATTACH;FMTTYPE=image/png:https://creeksidecabaret.com/wp-content/uploads/2026/04/CREEK-UFC-328-MAY-9-Chimaev-vs-Strickland-POST-.png
END:VEVENT
BEGIN:VEVENT
DTSTART;TZID=America/New_York:20260515T210000
DTEND;TZID=America/New_York:20260516T020000
DTSTAMP:20260420T160803
CREATED:20260410T155335Z
LAST-MODIFIED:20260410T155335Z
UID:10000653-1778878800-1778896800@creeksidecabaret.com
SUMMARY:Daisy Dukes and Cowboy Boots
DESCRIPTION:Join your Creekside Cabaret Entertainers for our annual Daisy Dukes and Cowboy Boots Party on Friday May 15\, 2026 starting at 9:00PM EST. Top Shelf Open Bar from 7:00PM EST to 9:00PM EST and complimentary barbeque buffet. Summer time\, Daisy Dukes and Creekside Cabaret.
URL:https://creeksidecabaret.com/event/daisy-dukes-and-cowboy-boots/
ATTACH;FMTTYPE=image/jpeg:https://creeksidecabaret.com/wp-content/uploads/2026/02/Creekside-Cabaret-DAISY-DUKES-May-2026-Post-02-25-26.jpg
END:VEVENT
BEGIN:VEVENT
DTSTART;TZID=America/New_York:20260516T200000
DTEND;TZID=America/New_York:20260517T020000
DTSTAMP:20260420T160803
CREATED:20260410T155602Z
LAST-MODIFIED:20260420T191158Z
UID:10000654-1778961600-1778983200@creeksidecabaret.com
SUMMARY:Rousey vs Carano!
DESCRIPTION:Join your Creekside Entertainers for the epic action of Ronda Rousey vs Gina Carano and Nick Diaz vs Mike Perry on Saturday May 16. 2026 at 8:00PM EST.  The party lasts until 2:00AM EST.
URL:https://creeksidecabaret.com/event/21638/
ATTACH;FMTTYPE=image/png:https://creeksidecabaret.com/wp-content/uploads/2026/04/CREEK-Rousey-vs-Carano-MAY-16-2026-Post-Official.png
END:VEVENT
BEGIN:VEVENT
DTSTART;TZID=America/New_York:20260518T160000
DTEND;TZID=America/New_York:20260519T020000
DTSTAMP:20260420T160803
CREATED:20260420T192848Z
LAST-MODIFIED:20260420T192848Z
UID:10001239-1779120000-1779156000@creeksidecabaret.com
SUMMARY:Bartenders in Bikinis Week!
DESCRIPTION:Serving Cocktails and Bikinis! All Week Long at Creekside Cabaret MAY 18th through 23rd\, our bartenders are serving up Summer in their Bikinis. Join us for HAPPY HOUR every day 4:00PM EST to 7:00PM EST in addition to Monday Night Wings\, Taco Tuesday\, and the sexiest entertainers in Montgomery County.
URL:https://creeksidecabaret.com/event/bartenders-in-bikinis-week/2026-05-18/
ATTACH;FMTTYPE=image/jpeg:https://creeksidecabaret.com/wp-content/uploads/2026/04/Fri1-CC-Bikini-SQUARE-1.jpeg
END:VEVENT
BEGIN:VEVENT
DTSTART;TZID=America/New_York:20260603T200000
DTEND;TZID=America/New_York:20260604T020000
DTSTAMP:20260420T160803
CREATED:20260410T160511Z
LAST-MODIFIED:20260410T160511Z
UID:10000917-1780516800-1780538400@creeksidecabaret.com
SUMMARY:
DESCRIPTION:Creekside Cabaret hosts Amateur Night with Top Shelf Open Bar the first Wednesday of every month. The hottest girls next door take the stage for your votes and to win the $500 first place cash prize. Come join the Open Bar 8:00PM EST – 9:00PM EST and the party!
URL:https://creeksidecabaret.com/event/21644/2026-06-03/
ATTACH;FMTTYPE=image/jpeg:https://creeksidecabaret.com/wp-content/uploads/2025/12/Creekside-Amateur-Night-Open-Bar-2026-Post.jpg
END:VEVENT
BEGIN:VEVENT
DTSTART;TZID=America/New_York:20260701T200000
DTEND;TZID=America/New_York:20260702T020000
DTSTAMP:20260420T160803
CREATED:20260410T160511Z
LAST-MODIFIED:20260410T160511Z
UID:10000918-1782936000-1782957600@creeksidecabaret.com
SUMMARY:
DESCRIPTION:Creekside Cabaret hosts Amateur Night with Top Shelf Open Bar the first Wednesday of every month. The hottest girls next door take the stage for your votes and to win the $500 first place cash prize. Come join the Open Bar 8:00PM EST – 9:00PM EST and the party!
URL:https://creeksidecabaret.com/event/21644/2026-07-01/
ATTACH;FMTTYPE=image/jpeg:https://creeksidecabaret.com/wp-content/uploads/2025/12/Creekside-Amateur-Night-Open-Bar-2026-Post.jpg
END:VEVENT
BEGIN:VEVENT
DTSTART;TZID=America/New_York:20260805T200000
DTEND;TZID=America/New_York:20260806T020000
DTSTAMP:20260420T160803
CREATED:20260410T160511Z
LAST-MODIFIED:20260410T160511Z
UID:10000919-1785960000-1785981600@creeksidecabaret.com
SUMMARY:
DESCRIPTION:Creekside Cabaret hosts Amateur Night with Top Shelf Open Bar the first Wednesday of every month. The hottest girls next door take the stage for your votes and to win the $500 first place cash prize. Come join the Open Bar 8:00PM EST – 9:00PM EST and the party!
URL:https://creeksidecabaret.com/event/21644/2026-08-05/
ATTACH;FMTTYPE=image/jpeg:https://creeksidecabaret.com/wp-content/uploads/2025/12/Creekside-Amateur-Night-Open-Bar-2026-Post.jpg
END:VEVENT
BEGIN:VEVENT
DTSTART;TZID=America/New_York:20260902T200000
DTEND;TZID=America/New_York:20260903T020000
DTSTAMP:20260420T160803
CREATED:20260410T160511Z
LAST-MODIFIED:20260410T160511Z
UID:10000920-1788379200-1788400800@creeksidecabaret.com
SUMMARY:
DESCRIPTION:Creekside Cabaret hosts Amateur Night with Top Shelf Open Bar the first Wednesday of every month. The hottest girls next door take the stage for your votes and to win the $500 first place cash prize. Come join the Open Bar 8:00PM EST – 9:00PM EST and the party!
URL:https://creeksidecabaret.com/event/21644/2026-09-02/
ATTACH;FMTTYPE=image/jpeg:https://creeksidecabaret.com/wp-content/uploads/2025/12/Creekside-Amateur-Night-Open-Bar-2026-Post.jpg
END:VEVENT
BEGIN:VEVENT
DTSTART;TZID=America/New_York:20261007T200000
DTEND;TZID=America/New_York:20261008T020000
DTSTAMP:20260420T160803
CREATED:20260410T160511Z
LAST-MODIFIED:20260410T160511Z
UID:10000921-1791403200-1791424800@creeksidecabaret.com
SUMMARY:
DESCRIPTION:Creekside Cabaret hosts Amateur Night with Top Shelf Open Bar the first Wednesday of every month. The hottest girls next door take the stage for your votes and to win the $500 first place cash prize. Come join the Open Bar 8:00PM EST – 9:00PM EST and the party!
URL:https://creeksidecabaret.com/event/21644/2026-10-07/
ATTACH;FMTTYPE=image/jpeg:https://creeksidecabaret.com/wp-content/uploads/2025/12/Creekside-Amateur-Night-Open-Bar-2026-Post.jpg
END:VEVENT
BEGIN:VEVENT
DTSTART;TZID=America/New_York:20261104T200000
DTEND;TZID=America/New_York:20261105T020000
DTSTAMP:20260420T160803
CREATED:20260410T160511Z
LAST-MODIFIED:20260410T160511Z
UID:10000922-1793822400-1793844000@creeksidecabaret.com
SUMMARY:
DESCRIPTION:Creekside Cabaret hosts Amateur Night with Top Shelf Open Bar the first Wednesday of every month. The hottest girls next door take the stage for your votes and to win the $500 first place cash prize. Come join the Open Bar 8:00PM EST – 9:00PM EST and the party!
URL:https://creeksidecabaret.com/event/21644/2026-11-04/
ATTACH;FMTTYPE=image/jpeg:https://creeksidecabaret.com/wp-content/uploads/2025/12/Creekside-Amateur-Night-Open-Bar-2026-Post.jpg
END:VEVENT
BEGIN:VEVENT
DTSTART;TZID=America/New_York:20261202T200000
DTEND;TZID=America/New_York:20261203T020000
DTSTAMP:20260420T160803
CREATED:20260410T160511Z
LAST-MODIFIED:20260410T160511Z
UID:10000923-1796241600-1796263200@creeksidecabaret.com
SUMMARY:
DESCRIPTION:Creekside Cabaret hosts Amateur Night with Top Shelf Open Bar the first Wednesday of every month. The hottest girls next door take the stage for your votes and to win the $500 first place cash prize. Come join the Open Bar 8:00PM EST – 9:00PM EST and the party!
URL:https://creeksidecabaret.com/event/21644/2026-12-02/
ATTACH;FMTTYPE=image/jpeg:https://creeksidecabaret.com/wp-content/uploads/2025/12/Creekside-Amateur-Night-Open-Bar-2026-Post.jpg
END:VEVENT
BEGIN:VEVENT
DTSTART;TZID=America/New_York:20270106T200000
DTEND;TZID=America/New_York:20270107T020000
DTSTAMP:20260420T160803
CREATED:20260410T160511Z
LAST-MODIFIED:20260410T160511Z
UID:10000924-1799265600-1799287200@creeksidecabaret.com
SUMMARY:
DESCRIPTION:Creekside Cabaret hosts Amateur Night with Top Shelf Open Bar the first Wednesday of every month. The hottest girls next door take the stage for your votes and to win the $500 first place cash prize. Come join the Open Bar 8:00PM EST – 9:00PM EST and the party!
URL:https://creeksidecabaret.com/event/21644/2027-01-06/
ATTACH;FMTTYPE=image/jpeg:https://creeksidecabaret.com/wp-content/uploads/2025/12/Creekside-Amateur-Night-Open-Bar-2026-Post.jpg
END:VEVENT
BEGIN:VEVENT
DTSTART;TZID=America/New_York:20270203T200000
DTEND;TZID=America/New_York:20270204T020000
DTSTAMP:20260420T160803
CREATED:20260410T160511Z
LAST-MODIFIED:20260410T160511Z
UID:10000925-1801684800-1801706400@creeksidecabaret.com
SUMMARY:
DESCRIPTION:Creekside Cabaret hosts Amateur Night with Top Shelf Open Bar the first Wednesday of every month. The hottest girls next door take the stage for your votes and to win the $500 first place cash prize. Come join the Open Bar 8:00PM EST – 9:00PM EST and the party!
URL:https://creeksidecabaret.com/event/21644/2027-02-03/
ATTACH;FMTTYPE=image/jpeg:https://creeksidecabaret.com/wp-content/uploads/2025/12/Creekside-Amateur-Night-Open-Bar-2026-Post.jpg
END:VEVENT
BEGIN:VEVENT
DTSTART;TZID=America/New_York:20270303T200000
DTEND;TZID=America/New_York:20270304T020000
DTSTAMP:20260420T160803
CREATED:20260410T160511Z
LAST-MODIFIED:20260410T160511Z
UID:10000926-1804104000-1804125600@creeksidecabaret.com
SUMMARY:
DESCRIPTION:Creekside Cabaret hosts Amateur Night with Top Shelf Open Bar the first Wednesday of every month. The hottest girls next door take the stage for your votes and to win the $500 first place cash prize. Come join the Open Bar 8:00PM EST – 9:00PM EST and the party!
URL:https://creeksidecabaret.com/event/21644/2027-03-03/
ATTACH;FMTTYPE=image/jpeg:https://creeksidecabaret.com/wp-content/uploads/2025/12/Creekside-Amateur-Night-Open-Bar-2026-Post.jpg
END:VEVENT
BEGIN:VEVENT
DTSTART;TZID=America/New_York:20270407T200000
DTEND;TZID=America/New_York:20270408T020000
DTSTAMP:20260420T160803
CREATED:20260410T160511Z
LAST-MODIFIED:20260410T160511Z
UID:10000927-1807128000-1807149600@creeksidecabaret.com
SUMMARY:
DESCRIPTION:Creekside Cabaret hosts Amateur Night with Top Shelf Open Bar the first Wednesday of every month. The hottest girls next door take the stage for your votes and to win the $500 first place cash prize. Come join the Open Bar 8:00PM EST – 9:00PM EST and the party!
URL:https://creeksidecabaret.com/event/21644/2027-04-07/
ATTACH;FMTTYPE=image/jpeg:https://creeksidecabaret.com/wp-content/uploads/2025/12/Creekside-Amateur-Night-Open-Bar-2026-Post.jpg
END:VEVENT
BEGIN:VEVENT
DTSTART;TZID=America/New_York:20270505T200000
DTEND;TZID=America/New_York:20270506T020000
DTSTAMP:20260420T160803
CREATED:20260410T160511Z
LAST-MODIFIED:20260410T160511Z
UID:10000928-1809547200-1809568800@creeksidecabaret.com
SUMMARY:
DESCRIPTION:Creekside Cabaret hosts Amateur Night with Top Shelf Open Bar the first Wednesday of every month. The hottest girls next door take the stage for your votes and to win the $500 first place cash prize. Come join the Open Bar 8:00PM EST – 9:00PM EST and the party!
URL:https://creeksidecabaret.com/event/21644/2027-05-05/
ATTACH;FMTTYPE=image/jpeg:https://creeksidecabaret.com/wp-content/uploads/2025/12/Creekside-Amateur-Night-Open-Bar-2026-Post.jpg
END:VEVENT
BEGIN:VEVENT
DTSTART;TZID=America/New_York:20270602T200000
DTEND;TZID=America/New_York:20270603T020000
DTSTAMP:20260420T160803
CREATED:20260410T160511Z
LAST-MODIFIED:20260410T160511Z
UID:10000929-1811966400-1811988000@creeksidecabaret.com
SUMMARY:
DESCRIPTION:Creekside Cabaret hosts Amateur Night with Top Shelf Open Bar the first Wednesday of every month. The hottest girls next door take the stage for your votes and to win the $500 first place cash prize. Come join the Open Bar 8:00PM EST – 9:00PM EST and the party!
URL:https://creeksidecabaret.com/event/21644/2027-06-02/
ATTACH;FMTTYPE=image/jpeg:https://creeksidecabaret.com/wp-content/uploads/2025/12/Creekside-Amateur-Night-Open-Bar-2026-Post.jpg
END:VEVENT
BEGIN:VEVENT
DTSTART;TZID=America/New_York:20270707T200000
DTEND;TZID=America/New_York:20270708T020000
DTSTAMP:20260420T160803
CREATED:20260410T160511Z
LAST-MODIFIED:20260410T160511Z
UID:10000930-1814990400-1815012000@creeksidecabaret.com
SUMMARY:
DESCRIPTION:Creekside Cabaret hosts Amateur Night with Top Shelf Open Bar the first Wednesday of every month. The hottest girls next door take the stage for your votes and to win the $500 first place cash prize. Come join the Open Bar 8:00PM EST – 9:00PM EST and the party!
URL:https://creeksidecabaret.com/event/21644/2027-07-07/
ATTACH;FMTTYPE=image/jpeg:https://creeksidecabaret.com/wp-content/uploads/2025/12/Creekside-Amateur-Night-Open-Bar-2026-Post.jpg
END:VEVENT
BEGIN:VEVENT
DTSTART;TZID=America/New_York:20270804T200000
DTEND;TZID=America/New_York:20270805T020000
DTSTAMP:20260420T160803
CREATED:20260410T160511Z
LAST-MODIFIED:20260410T160511Z
UID:10000931-1817409600-1817431200@creeksidecabaret.com
SUMMARY:
DESCRIPTION:Creekside Cabaret hosts Amateur Night with Top Shelf Open Bar the first Wednesday of every month. The hottest girls next door take the stage for your votes and to win the $500 first place cash prize. Come join the Open Bar 8:00PM EST – 9:00PM EST and the party!
URL:https://creeksidecabaret.com/event/21644/2027-08-04/
ATTACH;FMTTYPE=image/jpeg:https://creeksidecabaret.com/wp-content/uploads/2025/12/Creekside-Amateur-Night-Open-Bar-2026-Post.jpg
END:VEVENT
BEGIN:VEVENT
DTSTART;TZID=America/New_York:20270901T200000
DTEND;TZID=America/New_York:20270902T020000
DTSTAMP:20260420T160803
CREATED:20260410T160511Z
LAST-MODIFIED:20260410T160511Z
UID:10000932-1819828800-1819850400@creeksidecabaret.com
SUMMARY:
DESCRIPTION:Creekside Cabaret hosts Amateur Night with Top Shelf Open Bar the first Wednesday of every month. The hottest girls next door take the stage for your votes and to win the $500 first place cash prize. Come join the Open Bar 8:00PM EST – 9:00PM EST and the party!
URL:https://creeksidecabaret.com/event/21644/2027-09-01/
ATTACH;FMTTYPE=image/jpeg:https://creeksidecabaret.com/wp-content/uploads/2025/12/Creekside-Amateur-Night-Open-Bar-2026-Post.jpg
END:VEVENT
BEGIN:VEVENT
DTSTART;TZID=America/New_York:20271006T200000
DTEND;TZID=America/New_York:20271007T020000
DTSTAMP:20260420T160803
CREATED:20260410T160511Z
LAST-MODIFIED:20260410T160511Z
UID:10000933-1822852800-1822874400@creeksidecabaret.com
SUMMARY:
DESCRIPTION:Creekside Cabaret hosts Amateur Night with Top Shelf Open Bar the first Wednesday of every month. The hottest girls next door take the stage for your votes and to win the $500 first place cash prize. Come join the Open Bar 8:00PM EST – 9:00PM EST and the party!
URL:https://creeksidecabaret.com/event/21644/2027-10-06/
ATTACH;FMTTYPE=image/jpeg:https://creeksidecabaret.com/wp-content/uploads/2025/12/Creekside-Amateur-Night-Open-Bar-2026-Post.jpg
END:VEVENT
BEGIN:VEVENT
DTSTART;TZID=America/New_York:20271103T200000
DTEND;TZID=America/New_York:20271104T020000
DTSTAMP:20260420T160803
CREATED:20260410T160511Z
LAST-MODIFIED:20260410T160511Z
UID:10000934-1825272000-1825293600@creeksidecabaret.com
SUMMARY:
DESCRIPTION:Creekside Cabaret hosts Amateur Night with Top Shelf Open Bar the first Wednesday of every month. The hottest girls next door take the stage for your votes and to win the $500 first place cash prize. Come join the Open Bar 8:00PM EST – 9:00PM EST and the party!
URL:https://creeksidecabaret.com/event/21644/2027-11-03/
ATTACH;FMTTYPE=image/jpeg:https://creeksidecabaret.com/wp-content/uploads/2025/12/Creekside-Amateur-Night-Open-Bar-2026-Post.jpg
END:VEVENT
BEGIN:VEVENT
DTSTART;TZID=America/New_York:20271201T200000
DTEND;TZID=America/New_York:20271202T020000
DTSTAMP:20260420T160803
CREATED:20260410T160511Z
LAST-MODIFIED:20260410T160511Z
UID:10000935-1827691200-1827712800@creeksidecabaret.com
SUMMARY:
DESCRIPTION:Creekside Cabaret hosts Amateur Night with Top Shelf Open Bar the first Wednesday of every month. The hottest girls next door take the stage for your votes and to win the $500 first place cash prize. Come join the Open Bar 8:00PM EST – 9:00PM EST and the party!
URL:https://creeksidecabaret.com/event/21644/2027-12-01/
ATTACH;FMTTYPE=image/jpeg:https://creeksidecabaret.com/wp-content/uploads/2025/12/Creekside-Amateur-Night-Open-Bar-2026-Post.jpg
END:VEVENT
BEGIN:VEVENT
DTSTART;TZID=America/New_York:20280105T200000
DTEND;TZID=America/New_York:20280106T020000
DTSTAMP:20260420T160803
CREATED:20260410T160511Z
LAST-MODIFIED:20260410T160511Z
UID:10000936-1830715200-1830736800@creeksidecabaret.com
SUMMARY:
DESCRIPTION:Creekside Cabaret hosts Amateur Night with Top Shelf Open Bar the first Wednesday of every month. The hottest girls next door take the stage for your votes and to win the $500 first place cash prize. Come join the Open Bar 8:00PM EST – 9:00PM EST and the party!
URL:https://creeksidecabaret.com/event/21644/2028-01-05/
ATTACH;FMTTYPE=image/jpeg:https://creeksidecabaret.com/wp-content/uploads/2025/12/Creekside-Amateur-Night-Open-Bar-2026-Post.jpg
END:VEVENT
BEGIN:VEVENT
DTSTART;TZID=America/New_York:20280202T200000
DTEND;TZID=America/New_York:20280203T020000
DTSTAMP:20260420T160803
CREATED:20260410T160511Z
LAST-MODIFIED:20260410T160511Z
UID:10000937-1833134400-1833156000@creeksidecabaret.com
SUMMARY:
DESCRIPTION:Creekside Cabaret hosts Amateur Night with Top Shelf Open Bar the first Wednesday of every month. The hottest girls next door take the stage for your votes and to win the $500 first place cash prize. Come join the Open Bar 8:00PM EST – 9:00PM EST and the party!
URL:https://creeksidecabaret.com/event/21644/2028-02-02/
ATTACH;FMTTYPE=image/jpeg:https://creeksidecabaret.com/wp-content/uploads/2025/12/Creekside-Amateur-Night-Open-Bar-2026-Post.jpg
END:VEVENT
END:VCALENDAR